BEGIN:VCALENDAR
VERSION:2.0
PRODID:-//Distanzreiten Berlin Brandenburg - ECPv6.15.20//NONSGML v1.0//EN
CALSCALE:GREGORIAN
METHOD:PUBLISH
X-ORIGINAL-URL:https://distanzreiten-berlin-brandenburg.de
X-WR-CALDESC:Veranstaltungen für Distanzreiten Berlin Brandenburg
REFRESH-INTERVAL;VALUE=DURATION:PT1H
X-Robots-Tag:noindex
X-PUBLISHED-TTL:PT1H
BEGIN:VTIMEZONE
TZID:Europe/Berlin
BEGIN:DAYLIGHT
TZOFFSETFROM:+0100
TZOFFSETTO:+0200
TZNAME:CEST
DTSTART:20250330T010000
END:DAYLIGHT
BEGIN:STANDARD
TZOFFSETFROM:+0200
TZOFFSETTO:+0100
TZNAME:CET
DTSTART:20251026T010000
END:STANDARD
BEGIN:DAYLIGHT
TZOFFSETFROM:+0100
TZOFFSETTO:+0200
TZNAME:CEST
DTSTART:20260329T010000
END:DAYLIGHT
BEGIN:STANDARD
TZOFFSETFROM:+0200
TZOFFSETTO:+0100
TZNAME:CET
DTSTART:20261025T010000
END:STANDARD
BEGIN:DAYLIGHT
TZOFFSETFROM:+0100
TZOFFSETTO:+0200
TZNAME:CEST
DTSTART:20270328T010000
END:DAYLIGHT
BEGIN:STANDARD
TZOFFSETFROM:+0200
TZOFFSETTO:+0100
TZNAME:CET
DTSTART:20271031T010000
END:STANDARD
END:VTIMEZONE
BEGIN:VEVENT
DTSTART;VALUE=DATE:20260612
DTEND;VALUE=DATE:20260616
DTSTAMP:20260420T175526
CREATED:20251124T125610Z
LAST-MODIFIED:20251124T131341Z
UID:1483-1781226000-1781485199@distanzreiten-berlin-brandenburg.de
SUMMARY:Oderland 2026
DESCRIPTION:Blick-ins-Oderland\nEFR 31 km\nKDR 44 km\nMDR 68 km\nLDR 86 km \nVeranstaltungsdetails
URL:https://distanzreiten-berlin-brandenburg.de/event/oderland-2026/
LOCATION:Biesdorf\, Biesdorf\, Brandenburg\, 16269\, Germany
CATEGORIES:CEN,ER,KDR,LDR,MDR
ATTACH;FMTTYPE=image/jpeg:https://distanzreiten-berlin-brandenburg.de/wp-content/uploads/2021/11/Beitrag_offen-1.jpg
END:VEVENT
END:VCALENDAR