BEGIN:VCALENDAR
VERSION:2.0
PRODID:-//Distanzreiten Berlin Brandenburg - ECPv6.15.20//NONSGML v1.0//EN
CALSCALE:GREGORIAN
METHOD:PUBLISH
X-WR-CALNAME:Distanzreiten Berlin Brandenburg
X-ORIGINAL-URL:https://distanzreiten-berlin-brandenburg.de
X-WR-CALDESC:Veranstaltungen für Distanzreiten Berlin Brandenburg
REFRESH-INTERVAL;VALUE=DURATION:PT1H
X-Robots-Tag:noindex
X-PUBLISHED-TTL:PT1H
BEGIN:VTIMEZONE
TZID:Europe/Berlin
BEGIN:DAYLIGHT
TZOFFSETFROM:+0100
TZOFFSETTO:+0200
TZNAME:CEST
DTSTART:20240331T010000
END:DAYLIGHT
BEGIN:STANDARD
TZOFFSETFROM:+0200
TZOFFSETTO:+0100
TZNAME:CET
DTSTART:20241027T010000
END:STANDARD
BEGIN:DAYLIGHT
TZOFFSETFROM:+0100
TZOFFSETTO:+0200
TZNAME:CEST
DTSTART:20250330T010000
END:DAYLIGHT
BEGIN:STANDARD
TZOFFSETFROM:+0200
TZOFFSETTO:+0100
TZNAME:CET
DTSTART:20251026T010000
END:STANDARD
BEGIN:DAYLIGHT
TZOFFSETFROM:+0100
TZOFFSETTO:+0200
TZNAME:CEST
DTSTART:20260329T010000
END:DAYLIGHT
BEGIN:STANDARD
TZOFFSETFROM:+0200
TZOFFSETTO:+0100
TZNAME:CET
DTSTART:20261025T010000
END:STANDARD
END:VTIMEZONE
BEGIN:VEVENT
DTSTART;VALUE=DATE:20250528
DTEND;VALUE=DATE:20250603
DTSTAMP:20260424T122706
CREATED:20241201T151240Z
LAST-MODIFIED:20250924T061144Z
UID:1308-1748394000-1748825999@distanzreiten-berlin-brandenburg.de
SUMMARY:Brottewitz 2025
DESCRIPTION:EFR 30 km\nKDR 41 km\nMDR 66 km\nLDR 81 km\nK-MTR/F \nVeranstaltungsdetails
URL:https://distanzreiten-berlin-brandenburg.de/event/brottewitz-2025/
LOCATION:Brottewitz\, Brottewitz\, Brandenburg\, 04895\, Germany
CATEGORIES:+ Fahrt,CEN,ER,KDR,LDR,MDR,MTR
ATTACH;FMTTYPE=image/jpeg:https://distanzreiten-berlin-brandenburg.de/wp-content/uploads/2024/12/Beitrag_Bro.jpg
ORGANIZER;CN="Reitsportverein Brottewitz e.V.":MAILTO:sandrastamm@web.de
END:VEVENT
END:VCALENDAR