BEGIN:VCALENDAR
VERSION:2.0
PRODID:-//Distanzreiten Berlin Brandenburg - ECPv6.15.20//NONSGML v1.0//EN
CALSCALE:GREGORIAN
METHOD:PUBLISH
X-WR-CALNAME:Distanzreiten Berlin Brandenburg
X-ORIGINAL-URL:https://distanzreiten-berlin-brandenburg.de
X-WR-CALDESC:Veranstaltungen für Distanzreiten Berlin Brandenburg
REFRESH-INTERVAL;VALUE=DURATION:PT1H
X-Robots-Tag:noindex
X-PUBLISHED-TTL:PT1H
BEGIN:VTIMEZONE
TZID:Europe/Berlin
BEGIN:DAYLIGHT
TZOFFSETFROM:+0100
TZOFFSETTO:+0200
TZNAME:CEST
DTSTART:20230326T010000
END:DAYLIGHT
BEGIN:STANDARD
TZOFFSETFROM:+0200
TZOFFSETTO:+0100
TZNAME:CET
DTSTART:20231029T010000
END:STANDARD
BEGIN:DAYLIGHT
TZOFFSETFROM:+0100
TZOFFSETTO:+0200
TZNAME:CEST
DTSTART:20240331T010000
END:DAYLIGHT
BEGIN:STANDARD
TZOFFSETFROM:+0200
TZOFFSETTO:+0100
TZNAME:CET
DTSTART:20241027T010000
END:STANDARD
BEGIN:DAYLIGHT
TZOFFSETFROM:+0100
TZOFFSETTO:+0200
TZNAME:CEST
DTSTART:20250330T010000
END:DAYLIGHT
BEGIN:STANDARD
TZOFFSETFROM:+0200
TZOFFSETTO:+0100
TZNAME:CET
DTSTART:20251026T010000
END:STANDARD
END:VTIMEZONE
BEGIN:VEVENT
DTSTART;VALUE=DATE:20241004
DTEND;VALUE=DATE:20241008
DTSTAMP:20260425T000431
CREATED:20240120T134012Z
LAST-MODIFIED:20250924T055810Z
UID:1160-1728003600-1728262799@distanzreiten-berlin-brandenburg.de
SUMMARY:Ruppiner Land Oktober
DESCRIPTION:LDR/F 100 km\nLDR/F 81 km\nMDR/F 61 km\nKDR/F 41 km\nER/F 25 km\n  \nVeranstaltungsdetails
URL:https://distanzreiten-berlin-brandenburg.de/event/ruppiner-land/
LOCATION:Blankenberg\, Dorfstraße 18\, Wusterhausen OT Ganzer\, 16845\, Deutschland
CATEGORIES:+ Fahrt,CEN,ER,KDR,LDR,MDR
ATTACH;FMTTYPE=image/jpeg:https://distanzreiten-berlin-brandenburg.de/wp-content/uploads/2021/11/Beitrag_Ruppin.jpg
ORGANIZER;CN="Pferdesportgemeinschaft Ruppiner Land e.V.":MAILTO:durchsruppinerland@web.de
END:VEVENT
END:VCALENDAR